BEGIN:VCALENDAR
VERSION:2.0
PRODID:-//Komunitní prostor Smíchov - ECPv6.15.20//NONSGML v1.0//EN
CALSCALE:GREGORIAN
METHOD:PUBLISH
X-WR-CALNAME:Komunitní prostor Smíchov
X-ORIGINAL-URL:https://kpsmichov.cz/en
X-WR-CALDESC:Events for Komunitní prostor Smíchov
REFRESH-INTERVAL;VALUE=DURATION:PT1H
X-Robots-Tag:noindex
X-PUBLISHED-TTL:PT1H
BEGIN:VTIMEZONE
TZID:Europe/Prague
BEGIN:DAYLIGHT
TZOFFSETFROM:+0100
TZOFFSETTO:+0200
TZNAME:CEST
DTSTART:20220327T010000
END:DAYLIGHT
BEGIN:STANDARD
TZOFFSETFROM:+0200
TZOFFSETTO:+0100
TZNAME:CET
DTSTART:20221030T010000
END:STANDARD
BEGIN:DAYLIGHT
TZOFFSETFROM:+0100
TZOFFSETTO:+0200
TZNAME:CEST
DTSTART:20230326T010000
END:DAYLIGHT
BEGIN:STANDARD
TZOFFSETFROM:+0200
TZOFFSETTO:+0100
TZNAME:CET
DTSTART:20231029T010000
END:STANDARD
BEGIN:DAYLIGHT
TZOFFSETFROM:+0100
TZOFFSETTO:+0200
TZNAME:CEST
DTSTART:20240331T010000
END:DAYLIGHT
BEGIN:STANDARD
TZOFFSETFROM:+0200
TZOFFSETTO:+0100
TZNAME:CET
DTSTART:20241027T010000
END:STANDARD
END:VTIMEZONE
BEGIN:VEVENT
DTSTART;TZID=Europe/Prague:20230914T180000
DTEND;TZID=Europe/Prague:20230914T210000
DTSTAMP:20260421T025415
CREATED:20230815T131937Z
LAST-MODIFIED:20250712T145749Z
UID:4733-1694714400-1694725200@kpsmichov.cz
SUMMARY:Cyklus koncertů Šest na pětce: Kukal Quartet
DESCRIPTION:Více informací o celém projektu Zahajovací koncert cyklu komorních koncertů “Šest na pětce”\, jež proběhne od září do prosince.Zazní skladby Ondřeje Kukala\, Bohuslava Martinů a Antonína Dvořáka. základní vstupné 400 Kč Doprovodný program: Kavárna loučení – čas na sdílení našich zkušeností s odchodem blízkých\, nutná registrace doprovodný program je zdarma   
URL:https://kpsmichov.cz/en/program/cyklus-koncertu-sest-na-petce-kukal-quartet/
LOCATION:Chrám\, Komunitní prostor Smíchov Na Doubkové 8\, Praha 5\, kraj hlavní město praha\, 150 00\, Česká republika
CATEGORIES:Kultura v prostoru
ATTACH;FMTTYPE=image/jpeg:https://kpsmichov.cz/wp-content/uploads/2023/08/sest-na-petce-plakat-design-final-scaled.jpg
END:VEVENT
END:VCALENDAR