BEGIN:VCALENDAR
VERSION:2.0
PRODID:-//Komunitní prostor Smíchov - ECPv6.15.20//NONSGML v1.0//EN
CALSCALE:GREGORIAN
METHOD:PUBLISH
X-WR-CALNAME:Komunitní prostor Smíchov
X-ORIGINAL-URL:https://kpsmichov.cz/en
X-WR-CALDESC:Events for Komunitní prostor Smíchov
REFRESH-INTERVAL;VALUE=DURATION:PT1H
X-Robots-Tag:noindex
X-PUBLISHED-TTL:PT1H
BEGIN:VTIMEZONE
TZID:Europe/Prague
BEGIN:DAYLIGHT
TZOFFSETFROM:+0100
TZOFFSETTO:+0200
TZNAME:CEST
DTSTART:20230326T010000
END:DAYLIGHT
BEGIN:STANDARD
TZOFFSETFROM:+0200
TZOFFSETTO:+0100
TZNAME:CET
DTSTART:20231029T010000
END:STANDARD
BEGIN:DAYLIGHT
TZOFFSETFROM:+0100
TZOFFSETTO:+0200
TZNAME:CEST
DTSTART:20240331T010000
END:DAYLIGHT
BEGIN:STANDARD
TZOFFSETFROM:+0200
TZOFFSETTO:+0100
TZNAME:CET
DTSTART:20241027T010000
END:STANDARD
BEGIN:DAYLIGHT
TZOFFSETFROM:+0100
TZOFFSETTO:+0200
TZNAME:CEST
DTSTART:20250330T010000
END:DAYLIGHT
BEGIN:STANDARD
TZOFFSETFROM:+0200
TZOFFSETTO:+0100
TZNAME:CET
DTSTART:20251026T010000
END:STANDARD
END:VTIMEZONE
BEGIN:VEVENT
DTSTART;TZID=Europe/Prague:20241212T180000
DTEND;TZID=Europe/Prague:20241212T210000
DTSTAMP:20260421T073049
CREATED:20241024T120145Z
LAST-MODIFIED:20250712T140117Z
UID:7564-1734026400-1734037200@kpsmichov.cz
SUMMARY:Cyklus koncertů 6na5: Škampovo kvarteto
DESCRIPTION:Srdečně zveme na třetí koncert druhého ročníku Šest na Pětce.\n18:00/ entrée s moderátorem Jiřím Slabihoudkem\n19:00/ koncert\n    .\n\nŠkampovo kvarteto vzniklo roku 1989 na pražské AMU pod vedením profesorů Antonína Kohouta a Milana Škampy\, členů legendárního Smetanova kvarteta. Kvarteto je držitelem první ceny v prestižní světové soutěži Charlese Hennena v holandském Heerlenu a zvláštní ceny Českého komorního spolku. Díky úspěšnému vystoupení v londýnské Wigmore Hall\, za něž obdrželo cenu Královské filharmonické společnosti Best Debut 1993. V říjnu následujícího roku se pak soubor stal vůbec prvním rezidenčním kvartetem v historii Wigmore Hall\, kde v letech 1994-1998 odehrál desítky koncertů. Kvarteto vystupuje v Evropě\, Japonsku\, Severní a Jižní Americe\, Mexiku a Austrálii. Se svým publikem se setkává na pódiích prestižních hudebních festivalů v Melbourne\, Aspenu\, Berlíně\, Gstaadu\, Edinburghu\, Istanbulu\, Paříži.\n\n\n\n\n\n\n\n\n    .\n\n\nProgram: \n\nJosef Suk: Meditace na staročeský chorál Svatý Václave\nBedřich Smetana: Smyčcový kvartet č. 1 e moll ‚‚Z mého života‘‘\nAntonín Dvořák: Smyčcový kvartet č.13 G dur\, op. 106\n\n\n\n\n     . \nJiří Slabihoudek je hudební publicista a knihovník. Jako externí redaktor spolupracuje s Českým rozhlasem\, jeho texty se objevily v médiích a časopisech jako Aktuálně.cz\, Harmonie\, HIS Voice\, Hospodářské noviny\, kulturní čtrnáctideník A2 a dalších. Nejčastěji píše o soudobé vážné hudbě\, ale občas si dovolí nějakou tu výpravu do světa popkultury. \nPředprodej vstupenek na portálu GoOut\, základní vstupné 400 Kč\, zvýhodněné 240/150 Kč \nNa celý koncertní cyklus si lze pořídit abonmá\, které zahrnuje výhodnější cenu a garantované místo v chrámu na všech šesti koncertech a doprovodném programu. Cena abonmá na všechny koncerty: 1800 Kč /Studenti\, senioři\, ZTP a ZTP/P 1000 Kč / žáci a studenti hudebních škol 600 Kč. \nS velkou vděčností děkujeme všem partnerům a podporovatelům:\nMinisterstvo kultury ČR (Smetana 200\, Rok české hudby)\, Městská část Praha 5\, Ochranný svaz autorský\, Státní fond kultury a Českobratrské církvi evangelické
URL:https://kpsmichov.cz/en/program/cyklus-koncertu-6na5-skampovo-kvarteto/
LOCATION:Chrám\, Komunitní prostor Smíchov Na Doubkové 8\, Praha 5\, kraj hlavní město praha\, 150 00\, Česká republika
CATEGORIES:Kultura v prostoru
ATTACH;FMTTYPE=image/png:https://kpsmichov.cz/wp-content/uploads/2024/10/6na5_plakat_12.12.Skampovo-kvarteto.png
END:VEVENT
END:VCALENDAR