BEGIN:VCALENDAR
VERSION:2.0
PRODID:-//Komunitní prostor Smíchov - ECPv6.15.20//NONSGML v1.0//EN
CALSCALE:GREGORIAN
METHOD:PUBLISH
X-WR-CALNAME:Komunitní prostor Smíchov
X-ORIGINAL-URL:https://kpsmichov.cz/en
X-WR-CALDESC:Events for Komunitní prostor Smíchov
REFRESH-INTERVAL;VALUE=DURATION:PT1H
X-Robots-Tag:noindex
X-PUBLISHED-TTL:PT1H
BEGIN:VTIMEZONE
TZID:Europe/Prague
BEGIN:DAYLIGHT
TZOFFSETFROM:+0100
TZOFFSETTO:+0200
TZNAME:CEST
DTSTART:20230326T010000
END:DAYLIGHT
BEGIN:STANDARD
TZOFFSETFROM:+0200
TZOFFSETTO:+0100
TZNAME:CET
DTSTART:20231029T010000
END:STANDARD
BEGIN:DAYLIGHT
TZOFFSETFROM:+0100
TZOFFSETTO:+0200
TZNAME:CEST
DTSTART:20240331T010000
END:DAYLIGHT
BEGIN:STANDARD
TZOFFSETFROM:+0200
TZOFFSETTO:+0100
TZNAME:CET
DTSTART:20241027T010000
END:STANDARD
BEGIN:DAYLIGHT
TZOFFSETFROM:+0100
TZOFFSETTO:+0200
TZNAME:CEST
DTSTART:20250330T010000
END:DAYLIGHT
BEGIN:STANDARD
TZOFFSETFROM:+0200
TZOFFSETTO:+0100
TZNAME:CET
DTSTART:20251026T010000
END:STANDARD
END:VTIMEZONE
BEGIN:VEVENT
DTSTART;TZID=Europe/Prague:20241031T180000
DTEND;TZID=Europe/Prague:20241031T210000
DTSTAMP:20260421T072351
CREATED:20241024T114117Z
LAST-MODIFIED:20250712T145606Z
UID:7546-1730397600-1730408400@kpsmichov.cz
SUMMARY:Cyklus koncertů 6na5: Pavla Tesařová&Juraj Škoda
DESCRIPTION:Srdečně zveme na třetí koncert druhého ročníku Šest na Pětce.\n\n18:00/ entrée s moderátorem Jiřím Slabihoudkem\n19:00/ koncert\n\n    .\n\nHouslistka Pavla Tesařová je absolventka Pražské konzervatoře a studentka pražské HAMU ve třídě profesora P. Kudeláska. V současné době vedle sólových projektů hraje v PKF – Prague Philharmonia\, kde obhajuje úspěšný konkurz na pozici koncertní mistryně. Získala mnoho prvních cen na tuzemských i mezinárodních soutěžích: jako Kocianova houslová soutěž\, Talents for Europe\, Soutěž mistra J. Muziky\, Prague Junior Note\, Nové evropské talenty\, Mezinárodní soutěž Dr. J. Micky\, Concertino Praga\, Orpheus\, Pro Bohemia\, Pula Croatien\, 2. Prize 27th Musical Competition of Societa ’Umanitaria in Milan. France Music Competition – a v New Yorku – Manhattan Music Competition.\n\n    .\nVioloncellista Juraj Škoda studuje na Akademii múzických umění v Praze u prof. Mikaela Ericssona. působil. V současné době hraje v orchestrální akademii České filharmonie. Mezi jeho největší soutěžní úspěchy patří 1. cena a titul laureáta na soutěži Douzelage Young Musicians (Sherbourne\, Velká Británie)\, 1. místo a cena skladatele za nejlepší interpretaci skladby na celostátní violoncellové soutěži Violoncellová jeseň v Modre a vítězství ve své kategorii na celostátní soutěži konzervatoří a hudebních gymnázií České republiky.\n    .\n\n\nProgram: \n\nBohuslav Martinů: Duo pro housle a violoncello No. 1\nOtakar Ševčík: Holka Modrooká\, Mazurek\, Humoresque\, Capriccio\, Slovanské tance (výběr)\nLeoš Janáček: Smyčcový kvartet č.1 ‚‚Z podnětu L. N. Tolstého Kreutzerovy sonáty‘‘\nOndřej Kukal: Present\n\n\n\n\n     . \nJiří Slabihoudek je hudební publicista a knihovník. Jako externí redaktor spolupracuje s Českým rozhlasem\, jeho texty se objevily v médiích a časopisech jako Aktuálně.cz\, Harmonie\, HIS Voice\, Hospodářské noviny\, kulturní čtrnáctideník A2 a dalších. Nejčastěji píše o soudobé vážné hudbě\, ale občas si dovolí nějakou tu výpravu do světa popkultury. \nPředprodej vstupenek na portálu GoOut\, základní vstupné 300 Kč\, zvýhodněné 180/100 Kč \nNa celý koncertní cyklus si lze pořídit abonmá\, které zahrnuje výhodnější cenu a garantované místo v chrámu na všech šesti koncertech a doprovodném programu. Cena abonmá na všechny koncerty: 1800 Kč /Studenti\, senioři\, ZTP a ZTP/P 1000 Kč / žáci a studenti hudebních škol 600 Kč. \nS velkou vděčností děkujeme všem partnerům a podporovatelům:\nMinisterstvo kultury ČR (Smetana 200\, Rok české hudby)\, Městská část Praha 5\, Ochranný svaz autorský\, Státní fond kultury a Českobratrské církvi evangelické
URL:https://kpsmichov.cz/en/program/cyklus-koncertu-6na5-pavla-tesarova-juraj-skoda/
LOCATION:Chrám\, Komunitní prostor Smíchov Na Doubkové 8\, Praha 5\, kraj hlavní město praha\, 150 00\, Česká republika
CATEGORIES:Kultura v prostoru
ATTACH;FMTTYPE=image/png:https://kpsmichov.cz/wp-content/uploads/2024/10/6na5_plakat_31.10._TesarovaSkoda.png
END:VEVENT
END:VCALENDAR