BEGIN:VCALENDAR
VERSION:2.0
PRODID:-//Komunitní prostor Smíchov - ECPv6.15.20//NONSGML v1.0//EN
CALSCALE:GREGORIAN
METHOD:PUBLISH
X-WR-CALNAME:Komunitní prostor Smíchov
X-ORIGINAL-URL:https://kpsmichov.cz/en
X-WR-CALDESC:Events for Komunitní prostor Smíchov
REFRESH-INTERVAL;VALUE=DURATION:PT1H
X-Robots-Tag:noindex
X-PUBLISHED-TTL:PT1H
BEGIN:VTIMEZONE
TZID:Europe/Prague
BEGIN:DAYLIGHT
TZOFFSETFROM:+0100
TZOFFSETTO:+0200
TZNAME:CEST
DTSTART:20220327T010000
END:DAYLIGHT
BEGIN:STANDARD
TZOFFSETFROM:+0200
TZOFFSETTO:+0100
TZNAME:CET
DTSTART:20221030T010000
END:STANDARD
BEGIN:DAYLIGHT
TZOFFSETFROM:+0100
TZOFFSETTO:+0200
TZNAME:CEST
DTSTART:20230326T010000
END:DAYLIGHT
BEGIN:STANDARD
TZOFFSETFROM:+0200
TZOFFSETTO:+0100
TZNAME:CET
DTSTART:20231029T010000
END:STANDARD
BEGIN:DAYLIGHT
TZOFFSETFROM:+0100
TZOFFSETTO:+0200
TZNAME:CEST
DTSTART:20240331T010000
END:DAYLIGHT
BEGIN:STANDARD
TZOFFSETFROM:+0200
TZOFFSETTO:+0100
TZNAME:CET
DTSTART:20241027T010000
END:STANDARD
END:VTIMEZONE
BEGIN:VEVENT
DTSTART;TZID=Europe/Prague:20231020T190000
DTEND;TZID=Europe/Prague:20231020T210000
DTSTAMP:20260421T090846
CREATED:20230928T173958Z
LAST-MODIFIED:20250712T144848Z
UID:4997-1697828400-1697835600@kpsmichov.cz
SUMMARY:Chrámová projekce: Víc než trauma + navazující diskuze
DESCRIPTION:zahajovací chrámová projekce oceňovaného chorvatského snímku VÍC NEŽ TRAUMA \nMezinárodně oceňovaný dokument Víc než trauma sleduje několik žen z chorvatského města Vukovar\, které procházejí podpůrnou skupinovou terapií. Prolamují po pětadvaceti letech mlčení svá traumata ze sexuálního násilí\, kterým prošly. Filmové dílo Vedrany Pribačić představuje intimní zpovědi žen\, jejichž rodiny byly vyvražděny během chorvatské války za nezávislost\, byly zotročeny\, mučeny a znásilňovány\, ale přežily a následně o tom mlčely. (heroine cz) \nNa film naváže diskuze k tématu s členkou iniciativ „Konsent“ a „Proč jsme to nenahlásily“ Kristýnou Bělíkovou \nrežie: Vedrana Pribačić\, Mirta Puhlovski\ndélka: 90 min\nznění: chorvatšina\, CZ titulky \nvstupné – plné – 70 Kč\n– snížené – 50 Kč (studenti\, ZTP\, senior)\n– platba možná hotově na místě \nProjekce probíhá ve spolupráci s platformou KineDok\, který je součástí institutu dokumentárních filmů. Projekt je realizován za finanční podpory Kreativní Evropy MEDIA\, Mezinárodního Visegrádského fondu\, velvyslanectví USA\, státního fondu kinematografie a magistrátu hl.m.Praha
URL:https://kpsmichov.cz/en/program/cyklus-dokumentarnich-filmu-vic-nez-trauma-hrv/
LOCATION:Chrám\, Komunitní prostor Smíchov Na Doubkové 8\, Praha 5\, kraj hlavní město praha\, 150 00\, Česká republika
CATEGORIES:Kultura v prostoru,Společné večery
END:VEVENT
END:VCALENDAR