BEGIN:VCALENDAR
VERSION:2.0
PRODID:-//Komunitní prostor Smíchov - ECPv6.15.20//NONSGML v1.0//EN
CALSCALE:GREGORIAN
METHOD:PUBLISH
X-WR-CALNAME:Komunitní prostor Smíchov
X-ORIGINAL-URL:https://kpsmichov.cz/en
X-WR-CALDESC:Events for Komunitní prostor Smíchov
REFRESH-INTERVAL;VALUE=DURATION:PT1H
X-Robots-Tag:noindex
X-PUBLISHED-TTL:PT1H
BEGIN:VTIMEZONE
TZID:Europe/Prague
BEGIN:DAYLIGHT
TZOFFSETFROM:+0100
TZOFFSETTO:+0200
TZNAME:CEST
DTSTART:20240331T010000
END:DAYLIGHT
BEGIN:STANDARD
TZOFFSETFROM:+0200
TZOFFSETTO:+0100
TZNAME:CET
DTSTART:20241027T010000
END:STANDARD
BEGIN:DAYLIGHT
TZOFFSETFROM:+0100
TZOFFSETTO:+0200
TZNAME:CEST
DTSTART:20250330T010000
END:DAYLIGHT
BEGIN:STANDARD
TZOFFSETFROM:+0200
TZOFFSETTO:+0100
TZNAME:CET
DTSTART:20251026T010000
END:STANDARD
BEGIN:DAYLIGHT
TZOFFSETFROM:+0100
TZOFFSETTO:+0200
TZNAME:CEST
DTSTART:20260329T010000
END:DAYLIGHT
BEGIN:STANDARD
TZOFFSETFROM:+0200
TZOFFSETTO:+0100
TZNAME:CET
DTSTART:20261025T010000
END:STANDARD
END:VTIMEZONE
BEGIN:VEVENT
DTSTART;TZID=Europe/Prague:20251030T190000
DTEND;TZID=Europe/Prague:20251030T210000
DTSTAMP:20260421T041919
CREATED:20250919T175551Z
LAST-MODIFIED:20250919T211943Z
UID:8926-1761850800-1761858000@kpsmichov.cz
SUMMARY:Cyklus 6na5: Dialogy nové hudby
DESCRIPTION:Srdečně zveme na třetí koncert třetího ročníku Šest na pětce (6 koncertů klasické hudby na Praze 5). Třetí koncert bude patřit hudbě moderní a soudobé. Zazní premiéra Jakuba Chrásky a repríza audiovizuálního díla Lukáše Janaty Lamentations. Účinkují Jan Stránský (kytara) a Michaela Blažková (flétna).\nVstupenky v prodeji: https://goout.net/cs/sest-na-petce-dialogy-nove-hudby/szoyqvx/\nvstupné základní 300 Kč/zvýhodněné 180/150 Kč \n\nNa celý koncertní cyklus si lze pořídit abonmá\, které zahrnuje výhodnější cenu a garantované místo v chrámu na všech šesti koncertech a doprovodném programu. Cena abonmá na všechny koncerty: 1800 Kč / studenti\, senioři\, ZTP a ZTP/P 1000 Kč / žáci a studenti hudebních škol 600 Kč.\n___________________________________________________________\nProgram:\n\nB.Britten: Nocturnal\nT. Takemitsu: Toward the sea\nJakub Chráska: premiéra\nP. Eben: Tabulatora Nova\nLukáš Janata: Lamentations\n\n\nDěkujeme všem partnerům a podporovatelům.\nAkce se uskuteční za finanční podpory Městské části Praha 5\, Ochranného svazu autorského\, Státního fondu kultury a Českobratrské církve evangelické.\n___________________________________________________________\n\nJan Stránský studoval na Pražské Konzervatoři ve třídě Patricka Vacíka kde byl vybrán k absolvování jako sólista symfonického orchestru v sále Pražské konzervatoře a Hudebním Muzeu v Praze. V roce 2018 začal studovat na Hochshule für Musik FRANZ LISZT ve Výmaru\, poté absolvoval magisterské studium na Royal Conservatoire of Scotland ve třídách Prof. Allana Neava a Matthewa McCallistera\, které mu umožnilo se soustředit na více holistický přístup ke hře na kytaru a na rozvoj pro budoucí kariéru. Kromě kytary je Jan i vášnivým sboristou. Spolu se smíšeným sborem Punkt se zúčastnil mnoha mezinárodních soutěží. V posledním roce měl příležitost vystoupit mimo jiné v Laidlaw Music Centre při St.Andrews University\, na Ullapool Guitar Festival 2022 či ve Webster’s theatre v Glasgow během světové premiéry audiovizuálního projektu “Lamentations” se skladatelem Lukášem Janatou a vizuální umělkyni Karolínou Trhoňovou. \nMichaela Blažková studovala hru na příčnou flétnu ve třídě Jana Ostrého\, nejprve na Pražské konzervatoři a následně na Fakultě umění Ostravské univerzity. V rámci programu Erasmus+ absolvovala studijní stáž v Německu na Hochschule für Musik Franz Liszt Weimar u Nikolaie Jaegera. Zúčastnila se také řady mistrovských kurzů u významných osobností\, jako jsou Philippe Bernold\, Barthold Kuijken nebo András Adorján. Jako orchestrální hráčka spolupracuje s předními českými orchestry\, jako jsou Česká filharmonie\, PKF – Prague Philharmonia\, Plzeňská filharmonie nebo Janáčkova filharmonie Ostrava. Od roku 2019 působí jako první flétnistka operního souboru Národního divadla moravskoslezského a v současnosti je také členkou orchestru Národního divadla v Praze.
URL:https://kpsmichov.cz/en/program/cyklus-6na5-stransky-blazkova/
LOCATION:Chrám\, Komunitní prostor Smíchov Na Doubkové 8\, Praha 5\, kraj hlavní město praha\, 150 00\, Česká republika
CATEGORIES:Kultura v prostoru
ATTACH;FMTTYPE=image/jpeg:https://kpsmichov.cz/wp-content/uploads/2025/09/508806615_519514061245817_2745424616498445762_n-1.jpg
END:VEVENT
END:VCALENDAR