BEGIN:VCALENDAR
VERSION:2.0
PRODID:-//Komunitní prostor Smíchov - ECPv6.15.20//NONSGML v1.0//EN
CALSCALE:GREGORIAN
METHOD:PUBLISH
X-WR-CALNAME:Komunitní prostor Smíchov
X-ORIGINAL-URL:https://kpsmichov.cz/en
X-WR-CALDESC:Events for Komunitní prostor Smíchov
REFRESH-INTERVAL;VALUE=DURATION:PT1H
X-Robots-Tag:noindex
X-PUBLISHED-TTL:PT1H
BEGIN:VTIMEZONE
TZID:Europe/Prague
BEGIN:DAYLIGHT
TZOFFSETFROM:+0100
TZOFFSETTO:+0200
TZNAME:CEST
DTSTART:20240331T010000
END:DAYLIGHT
BEGIN:STANDARD
TZOFFSETFROM:+0200
TZOFFSETTO:+0100
TZNAME:CET
DTSTART:20241027T010000
END:STANDARD
BEGIN:DAYLIGHT
TZOFFSETFROM:+0100
TZOFFSETTO:+0200
TZNAME:CEST
DTSTART:20250330T010000
END:DAYLIGHT
BEGIN:STANDARD
TZOFFSETFROM:+0200
TZOFFSETTO:+0100
TZNAME:CET
DTSTART:20251026T010000
END:STANDARD
BEGIN:DAYLIGHT
TZOFFSETFROM:+0100
TZOFFSETTO:+0200
TZNAME:CEST
DTSTART:20260329T010000
END:DAYLIGHT
BEGIN:STANDARD
TZOFFSETFROM:+0200
TZOFFSETTO:+0100
TZNAME:CET
DTSTART:20261025T010000
END:STANDARD
END:VTIMEZONE
BEGIN:VEVENT
DTSTART;TZID=Europe/Prague:20251021T100000
DTEND;TZID=Europe/Prague:20251021T113000
DTSTAMP:20260421T054029
CREATED:20251028T203119Z
LAST-MODIFIED:20251028T203120Z
UID:10006367-1761040800-1761046200@kpsmichov.cz
SUMMARY:BBM Prague: COME TOGETHER
DESCRIPTION:BBM Prague: COME TOGETHER — umělecko-politická laboratoř o svobodě \nOd 17. do 22. října povede berlínský choreograf Nir de Volff v Praze taneční laboratoř na téma SVOBODA\, společně s tanečníky z Berlína a Prahy. Projekt vychází z jeho mezinárodní metody BBM – Breathing Bodies Movement.\n\n\n\n Tělo a dech jako nástroje síly\, změny a svobody.\n Tanec jako hlas\, který může promlouvat proti nespravedlnosti a otevírat prostor pro společenskou proměnu.\n Otevřené lekce:\n\n\n 20.–22. října\n 10:00–11:30\n\n\n\nPřijďte se zapojit do společného zkoumání svobody — skrze pohyb\, dech a setkání lidí\, kteří věří v sílu umění měnit svět.\n\n\n\n\nProjekt je podpořen Česko-německým fondem budoucnosti a Nir de Volff / TOTAL BRUTAL. \n\n\n\nENG \nOn October 17th–22th\, Berlin choreographer Nir de Volff will lead a dance laboratory in Prague on the theme of FREEDOM\, together with three dancers from Berlin and three dancers from Prague\, based on his global movement method BBM-Breathing Bodies Movement. \n  \nImmersion in the theme of freedom will be used as a tool for our physical and mental empowerment. Dance and breath could be powerful tools for social change in 2025\, as we artists use our bodies and movements to challenge authority\, speak out against injustice\, or draw attention to marginalized communities. \n  \nThe laboratory is supported by the German-Czech Future Foundation and Nir de Volff / TOTAL BRUTAL.
URL:https://kpsmichov.cz/en/program/come-together-2/2025-10-21/
LOCATION:Chrám\, Komunitní prostor Smíchov Na Doubkové 8\, Praha 5\, kraj hlavní město praha\, 150 00\, Česká republika
CATEGORIES:Taneční aktivity,Živé téma
ATTACH;FMTTYPE=image/jpeg:https://kpsmichov.cz/wp-content/uploads/2025/10/560274399_18015091379792406_7964355659726423277_n.jpg
END:VEVENT
END:VCALENDAR